BEGIN:VCALENDAR
VERSION:2.0
PRODID:-//RUGIS - ECPv6.7.0//NONSGML v1.0//EN
CALSCALE:GREGORIAN
METHOD:PUBLISH
X-WR-CALNAME:RUGIS
X-ORIGINAL-URL:https://rugis.rutgers.edu
X-WR-CALDESC:Events for RUGIS
REFRESH-INTERVAL;VALUE=DURATION:PT1H
X-Robots-Tag:noindex
X-PUBLISHED-TTL:PT1H
BEGIN:VTIMEZONE
TZID:UTC
BEGIN:STANDARD
TZOFFSETFROM:+0000
TZOFFSETTO:+0000
TZNAME:UTC
DTSTART:20250101T000000
END:STANDARD
END:VTIMEZONE
BEGIN:VEVENT
DTSTART;TZID=UTC:20251119T160000
DTEND;TZID=UTC:20251119T180000
DTSTAMP:20260423T053441
CREATED:20251030T190258Z
LAST-MODIFIED:20251030T190258Z
UID:605-1763568000-1763575200@rugis.rutgers.edu
SUMMARY:Rutgers GIS Day Mapathon
DESCRIPTION:Register here: https://libcal.rutgers.edu/event/15567050 \nMapathon for Humanitarian Relief Efforts\n\nLocation: Pane Room (1st floor) in the Archibald Alexander Library\, College Ave Campus \nCelebrate GIS Day and Geography Awareness week! Together with fellow Rutgers students\, staff\, and faculty\, you will contribute geospatial data to OpenStreetMap\, a free and editable map of the world that is used by communities\, organizations\, and governments worldwide to address local development challenges and aid disaster response. Our project will be decided closer to the date. In past years\, Rutgers students\, staff\, and faculty worked together on a mapping project to help NGO efforts with relief operations in Puerto Rico\, the Democratic Republic of the Congo\, and Tanzania. No mapping experience or knowledge is necessary. Training will be provided. Join at any time during the scheduled event!
URL:https://rugis.rutgers.edu/event/rutgers-gis-day-mapathon/
LOCATION:Archibald Alexander Library\, 169 College Ave\, New Brunswick\, NJ\, 08901\, United States
END:VEVENT
END:VCALENDAR