BEGIN:VCALENDAR
VERSION:2.0
PRODID:-//RUGIS - ECPv6.7.0//NONSGML v1.0//EN
CALSCALE:GREGORIAN
METHOD:PUBLISH
X-WR-CALNAME:RUGIS
X-ORIGINAL-URL:https://rugis.rutgers.edu
X-WR-CALDESC:Events for RUGIS
REFRESH-INTERVAL;VALUE=DURATION:PT1H
X-Robots-Tag:noindex
X-PUBLISHED-TTL:PT1H
BEGIN:VTIMEZONE
TZID:UTC
BEGIN:STANDARD
TZOFFSETFROM:+0000
TZOFFSETTO:+0000
TZNAME:UTC
DTSTART:20260101T000000
END:STANDARD
END:VTIMEZONE
BEGIN:VEVENT
DTSTART;TZID=UTC:20260302T090000
DTEND;TZID=UTC:20260302T120000
DTSTAMP:20260423T000436
CREATED:20220414T152436Z
LAST-MODIFIED:20260218T155339Z
UID:477-1772442000-1772452800@rugis.rutgers.edu
SUMMARY:Spring Semester 2026 RUGIS Meeting
DESCRIPTION:Information and the meeting Zoom URL will be distributed to the RUGIS email list. \nIf you would like to be added to the RUGIS email list\, contact one of the following: \nSue Oldenburg at sue.oldenburg@rutgers.edu \nDavid Tulloch at tulloch@crssa.rutgers.edu \nMichael Siegel at misiegel@rutgers.edu \n 
URL:https://rugis.rutgers.edu/event/rugis-spring-meeting/
LOCATION:NJ
END:VEVENT
END:VCALENDAR